BEGIN:VCALENDAR
PRODID:-//github.com/rianjs/ical.net//NONSGML ical.net 4.0//EN
VERSION:2.0
BEGIN:VTIMEZONE
TZID:Eastern Standard Time
X-LIC-LOCATION:America/New_York
BEGIN:STANDARD
DTSTART:20241103T020000
RRULE:FREQ=YEARLY;BYDAY=1SU;BYMONTH=11
TZNAME:EST
TZOFFSETFROM:-0400
TZOFFSETTO:-0500
END:STANDARD
BEGIN:DAYLIGHT
DTSTART:20250309T020000
RRULE:FREQ=YEARLY;BYDAY=2SU;BYMONTH=3
TZNAME:EDT
TZOFFSETFROM:-0500
TZOFFSETTO:-0400
END:DAYLIGHT
END:VTIMEZONE
BEGIN:VEVENT
DESCRIPTION:Hours: 5 Technical Water\nCost: FREE
DTEND;TZID=Eastern Standard Time:20260526T150000
DTSTAMP:20260421T200143Z
DTSTART;TZID=Eastern Standard Time:20260526T090000
LOCATION:Online or\nIn-person: Schilling Community Center 900 Mill St\, Br
 ookville\, IN 47012
ORGANIZER;CN=Alliance of Indiana Rural Water;SENT-BY="mailto:alliance@inh2
 o.org":
SEQUENCE:0
SUMMARY:AIRW: Water: Rules\, Regs\, and Sampling (Hybrid) - Brookville\, IN
UID:16f8c5a5-c189-4b72-8491-ae9d5af4bed8
END:VEVENT
END:VCALENDAR
