BEGIN:VCALENDAR
PRODID:-//github.com/rianjs/ical.net//NONSGML ical.net 4.0//EN
VERSION:2.0
BEGIN:VTIMEZONE
TZID:Eastern Standard Time
X-LIC-LOCATION:America/New_York
BEGIN:STANDARD
DTSTART:20241103T020000
RRULE:FREQ=YEARLY;BYDAY=1SU;BYMONTH=11
TZNAME:EST
TZOFFSETFROM:-0400
TZOFFSETTO:-0500
END:STANDARD
BEGIN:DAYLIGHT
DTSTART:20250309T020000
RRULE:FREQ=YEARLY;BYDAY=2SU;BYMONTH=3
TZNAME:EDT
TZOFFSETFROM:-0500
TZOFFSETTO:-0400
END:DAYLIGHT
END:VTIMEZONE
BEGIN:VEVENT
DESCRIPTION:Hours: 2T Water & 5T Wastewater\nCost: $70 member/$120 non-mem
 ber
DTEND;TZID=Eastern Standard Time:20260528T150000
DTSTAMP:20260421T220400Z
DTSTART;TZID=Eastern Standard Time:20260528T090000
LOCATION:Online or\nIn-person: 210 4th Street Covington\, IN 47932
ORGANIZER;CN=Alliance of Indiana Rural Water;SENT-BY="mailto:alliance@inh2
 o.org":
SEQUENCE:0
SUMMARY:AIRW: A-Z of Wastewater Treatment & Chlorine Treatment (Hybrid) - 
 Covington\, IN
UID:ead2e7e9-8891-42ee-b8aa-191a57a24294
END:VEVENT
END:VCALENDAR
