BEGIN:VCALENDAR
PRODID:-//github.com/rianjs/ical.net//NONSGML ical.net 4.0//EN
VERSION:2.0
BEGIN:VTIMEZONE
TZID:US Eastern Standard Time
X-LIC-LOCATION:America/Indianapolis
BEGIN:STANDARD
DTSTART:20241103T020000
RRULE:FREQ=YEARLY;BYDAY=1SU;BYMONTH=11
TZNAME:EST
TZOFFSETFROM:-0400
TZOFFSETTO:-0500
END:STANDARD
BEGIN:DAYLIGHT
DTSTART:20250309T020000
RRULE:FREQ=YEARLY;BYDAY=2SU;BYMONTH=3
TZNAME:EDT
TZOFFSETFROM:-0500
TZOFFSETTO:-0400
END:DAYLIGHT
END:VTIMEZONE
BEGIN:VEVENT
DESCRIPTION:Hours: 5T Wastewater & 5G Water\nCost: $125 member/ $175 non-m
 ember
DTEND;TZID=US Eastern Standard Time:20260526T150000
DTSTAMP:20260424T220033Z
DTSTART;TZID=US Eastern Standard Time:20260526T090000
LOCATION:Rising Sun City Hall 200 North Walnut Street Rising Sun\, IN 4704
 0-1136 United States
ORGANIZER;CN=Alliance of Indiana Rural Water;SENT-BY="mailto:alliance@inh2
 o.org":
SEQUENCE:0
SUMMARY:AIRW: IPW - Making Flow Happen: Complete Guide to Pump Station Ope
 rations and Maintenance - Rising Sun\, IN
UID:4ff2ab4c-71b0-4b3a-80b8-30741cc48645
END:VEVENT
END:VCALENDAR
